BEGIN:VCALENDAR
VERSION:2.0
PRODID:-//Tukios.com/
BEGIN:VEVENT
UID:ae29fa13-5692-49ea-a689-36d6c0b6710a@www.lovefuneralhomega.com
DTSTAMP:20260424T210406Z
DTSTART:20260428T170000Z
DTEND:20260428T180000Z
SUMMARY:Funeral Service
DESCRIPTION:
URL:https://www.lovefuneralhomega.com/obituaries/jack-duggan
LOCATION:First Baptist Church of Dalton 311 North Thornton Avenue  Dalton 
	GA 30720
GEO:34.7751679;-84.9727904
END:VEVENT
END:VCALENDAR