BEGIN:VCALENDAR
VERSION:2.0
PRODID:-//Tukios.com/
BEGIN:VEVENT
UID:63a478ab-6857-4890-a32f-54ecfc664df2@www.lovefuneralhomega.com
DTSTAMP:20260424T205750Z
DTSTART:20260428T150000Z
DTEND:20260428T170000Z
SUMMARY:Visitation
DESCRIPTION:
URL:https://www.lovefuneralhomega.com/obituaries/jack-duggan
LOCATION:First Baptist Church of Dalton 311 North Thornton Avenue  Dalton 
	GA 30720
GEO:34.7751679;-84.9727904
END:VEVENT
END:VCALENDAR