BEGIN:VCALENDAR
VERSION:2.0
PRODID:-//Tukios.com/
BEGIN:VEVENT
UID:33fb3cba-c7dd-4269-bb0d-a7315b894283@www.lovefuneralhomega.com
DTSTAMP:20260423T214221Z
DTSTART:20260426T200000Z
DTEND:20260426T210000Z
SUMMARY:Funeral Service
DESCRIPTION:
URL:https://www.lovefuneralhomega.com/obituaries/bob-bobby-anderson
LOCATION: 515 North Tibbs Road  Dalton GA 30720
GEO:34.7799994;-84.9996985
END:VEVENT
END:VCALENDAR