BEGIN:VCALENDAR
VERSION:2.0
PRODID:-//Tukios.com/
BEGIN:VEVENT
UID:d4ea54a3-eae3-460d-9532-88cc5a4ebb38@www.lovefuneralhomega.com
DTSTAMP:20260423T214308Z
DTSTART:20260426T180000Z
DTEND:20260426T200000Z
SUMMARY:Visitation
DESCRIPTION:
URL:https://www.lovefuneralhomega.com/obituaries/bob-bobby-anderson
LOCATION: 515 North Tibbs Road  Dalton GA 30720
GEO:34.7799994;-84.9996985
END:VEVENT
END:VCALENDAR